Workbook

Sheet показатели
P1: Приложение 1
A2: Фактические значения показателей надежности и энергетической эффективности объектов теплоснабжения за 2023 год
A3: ООО "Коммунальная сетевая компания"
A5: № п/п | B5: Наименование муниципального образования | C5: Наименование теплоснабжающей организации | D5: Показатели энергетической эффективности объектов теплоснабжения | K5: Показатели надежности теплоснабжения
D7: Фактический удельный расход топлива на производство единицы тепловой энергии, отпускаемой с коллекторов источников тепловой энергии | E7: Объем натурального топлива фактически использованный для выработки тепловой энергии | F7: Переводной кофициент нарурального топлива в условное | G7: Величина фактического полезного отпуска тепловой энергии потребителям с учетом собственного потребления | H7: Величина фактических технологических потерь при передаче тепловой энергии, теплоносителя по тепловым сетям | I7: Отношение величины технологических потерь тепловой энергии, теплоносителя к материальной характеристике тепловой сети | J7: Материальная характеристика тепловой сети, (сумма произведений наружных диаметров трубопроводов участков тепловой сети на их длину) | K7: Количество прекращений подачи тепловой энергии, теплоносителя в результате технологических нарушений на тепловых сетях на 1 км тепловых сетей | L7: Количество прекращений подачи тепловой энергии, теплоносителя в результате технологических нарушений на тепловых сетях * | M7: Протяженность тепловых сетей (в 2-х трубном исчислении) | N7: Количество прекращений подачи тепловой энергии, теплоносителя в результате технологических нарушений на источниках тепловой энергии на 1 Гкал/час установленной мощности | O7: Количество прекращений подачи тепловой энергии, теплоносителя в результате технологических нарушений на источниках тепловой энергии * | P7: Величина установленной мощности источника тепловой энергии
D9: кг.у.т/Гкал | E9: тыс.куб.м (тонн, куб.м) | G9: Гкал | H9: Гкал | I9: Гкал/м2 | J9: м2 | K9: шт./км | L9: шт. | M9: км | N9: шт./Гкал/час | O9: шт. | P9: Гкал/час
A10: 1 | B10: г Нижний Новгород | C10: ООО "Коммунальная сетевая компания" | D10: =(28092.365+2629.629+2575.166)/(G11+G12+G13)*1000 -> 158.71592 | E10: =E11+E12+E13 -> 28223.11 | F10: =(E11*F11+E12*F12+E13*F13)/E10 -> 1.1805616 | G10: =G11+G12+G13+G16 -> 246074.85 | H10: =H11+H12+H13+H16 -> 8067.5979 | I10: =H10/J10 -> 0.98452571 | J10: =J11+J12+J16+J13 -> 8194.4005 | K10: =K11+K12+K16+K13 -> 0 | L10: =L11+L12+L16+L13 -> 0 | M10: =M11+M12+M16+M13 -> 17.16525 | N10: =N11+N12+N16+N13 -> 0 | O10: =O11+O12+O16+O13 -> 0 | P10: =P11+P12+P13 -> 160.64
A11: 1.1 | B11: г Нижний Новгород, Сормовский р-н | C11: котельная по ул. Зайцева д.31В | D11: =E11*F11/G11*1000 -> 158.92359 | E11: 23789.74 | F11: 1.1808605 | G11: 176766.49 | H11: 2895.4082 | I11: =H11/J11 -> 1.6154386 | J11: ='матер.хар-ка'!G43 -> 1792.3356 | K11: 0 | L11: 0 | M11: ='матер.хар-ка'!E43/1000 -> 4.241 | N11: 0 | O11: 0 | P11: 141.65
A12: 1.2 | B12: г Нижний Новгород, Автозаводский р-н | C12: котельная по ул. Малоэтажная д.31А | D12: =E12*F12/G12*1000 -> 154.49078 | E12: 2229.213 | F12: 1.1796223 | G12: 17021.271 | H12: 1719.4243 | I12: =H12/J12 -> 1.3174414 | J12: ='матер.хар-ка'!G80 -> 1305.124 | K12: 0 | L12: 0 | M12: ='матер.хар-ка'!E80/1000 -> 2.663 | N12: 0 | O12: 0 | P12: 13.41
A13: 1.3 | B13: г Нижний Новгород, Автозаводский р-н | C13: котельная по ул. Монастырка д.1 (с учетом выработки пара и протяженности паропровода) | D13: =E13*F13/G13*1000 -> 162.28832 | E13: 2204.157 | F13: 1.1782857 | G13: 16003.164 | H13: 233.5854 | I13: =H13/J13 -> 0.99045315 | J13: ='матер.хар-ка'!G85 -> 235.8369 | K13: 0 | L13: 0 | M13: =M14+M15 -> 0.76225 | N13: 0 | O13: 0 | P13: 5.58
C14: в т.ч. на пар | D14: =E14*F14/G14*1000 -> 162.10623 | E14: 1836.898 | F14: 1.1782857 | G14: 13351.681 | H14: 0 | I14: =H14/J14 -> 0 | J14: ='матер.хар-ка'!G82 -> 73.9827 | K14: 0 | L14: 0 | M14: ='матер.хар-ка'!E82/2/1000 -> 0.23265 | N14: 0 | O14: 0 | P14: =P13-P15 -> 2.64
C15: в т.ч. на отопление | D15: =E15*F15/G15*1000 -> 163.58122 | E15: =E13-E14 -> 367.259 | F15: 1.181 | G15: =G13-G14 -> 2651.4834 | H15: =H13-H14 -> 233.5854 | I15: =H15/J15 -> 1.4431841 | J15: =J13-J14 -> 161.8542 | K15: 0 | L15: 0 | M15: =('матер.хар-ка'!E83+'матер.хар-ка'!E84)/1000 -> 0.5296 | N15: 0 | O15: 0 | P15: 2.94 | Q15: договорная тепловая нагрузка
A16: 1.4 | B16: г Нижний Новгород | C16: передача тепловой энергии по теплотрассе "Прибрежная" | G16: 36283.921 | H16: 3219.18 | I16: =H16/J16 -> 0.66223228 | J16: ='матер.хар-ка'!G153 -> 4861.104 | K16: 0 | L16: 0 | M16: =('матер.хар-ка'!I153+'матер.хар-ка'!J153)/1000 -> 9.499 | N16: 0 | O16: 0 | P16: -
B19: * количество прекращений подачи тепловой энергии необходимо указать согласно записям в журналах учета нарушений подачи тепловой энергии
B22: Директор ООО "КСК" | D22: В.В.Пичугин

Sheet матер.хар-ка
A1: Материальная характеристика тепловых сетей ООО "КСК"
A3: № п/п | B3: Наименование | C3: Кадастровый номер тепловой сети | D3: Наружный диаметр трубопровода, мм | E3: Протяженность тепловой сети, в м | F3: Кол-во труб, шт | G3: Материальная хар-ка, м2
A4: 1 | B4: Котельная по ул. Зайцева д. 31В
A5: 1.1 | B5: Тепловые сети 2-х трубные, L = 1365 м | C5: инв № 00-000153 | D5: 630 | E5: 144 | F5: 2 | G5: =D5/1000*E5*F5 -> 181.44
D6: 426 | E6: 241 | F6: 2 | G6: =D6/1000*E6*F6 -> 205.332
D7: 219 | E7: 135 | F7: 2 | G7: =D7/1000*E7*F7 -> 59.13
D8: 159 | E8: 65 | F8: 2 | G8: =D8/1000*E8*F8 -> 20.67
D9: 159 | E9: 20 | F9: 2 | G9: =D9/1000*E9*F9 -> 6.36
D10: 133 | E10: 400 | F10: 2 | G10: =D10/1000*E10*F10 -> 106.4
D11: 108 | E11: 360 | F11: 2 | G11: =D11/1000*E11*F11 -> 77.76
A12: 1.2 | B12: Подземная тепловая сеть, транспортирующая горячую воду с температурой до 150 градусов Цельсия включительно от камеры УТ6 до ДДУ№13. | C12: 52:18:0010435:2415 | D12: 108 | E12: 18 | F12: 2 | G12: =D12/1000*E12*F12 -> 3.888
A13: 1.3 | B13: Внутриплощадочные сети к жилому дому №1 (по генплану). I этап - внутриплощадочные сети к I этапу строительства жилого дома, протяженность 280 | C13: 52:18:0010435:197 | D13: 273 | E13: 216 | F13: 2 | G13: =D13/1000*E13*F13 -> 117.936
D14: 133 | E14: 64 | F14: 2 | G14: =D14/1000*E14*F14 -> 17.024
A15: 1.4 | B15: Внутриплощадочные сети к жилому дому №12 (по генплану)-1 этап строительства, протяженность 11м | C15: 52:18:0010435:337 | D15: 89 | E15: 11 | F15: 2 | G15: =D15/1000*E15*F15 -> 1.958
A16: 1.5 | B16: Внутриплощадочные сети к жилому дому № 6 (по генплану). I этап строительства, протяженность 398 м | C16: 52:18:0010435:1108 | D16: 273 | E16: 138.1 | F16: 2 | G16: =D16/1000*E16*F16 -> 75.4026
D17: 159 | E17: 144.4 | F17: 2 | G17: =D17/1000*E17*F17 -> 45.9192
D18: 89 | E18: 115.5 | F18: 2 | G18: =D18/1000*E18*F18 -> 20.559
A19: 1.6 | B19: Внутриплощадочные сети к жилому дому № 2 (по генплану). I этап строительства, протяженность 138 м | C19: 52:18:0010435:1109 | D19: 273 | E19: 121.8 | F19: 2 | G19: =D19/1000*E19*F19 -> 66.5028
D20: 108 | E20: 16.2 | F20: 2 | G20: =D20/1000*E20*F20 -> 3.4992
A21: 1.7 | B21: Внутриплощадочные сети к жилому дому № 11 (по генплану). I этап строительства, протяженность 137 м | C21: 52:18:0010435:1114 | D21: 273 | E21: 76.45 | F21: 2 | G21: =D21/1000*E21*F21 -> 41.7417
D22: 219 | E22: 31.9 | F22: 2 | G22: =D22/1000*E22*F22 -> 13.9722
D23: 133 | E23: 28.65 | F23: 2 | G23: =D23/1000*E23*F23 -> 7.6209
A24: 1.8 | B24: Внутриплощадочные сети к жилому дому № 2 (по генплану). I этап строительства, протяженность 16 м | C24: 52:18:0010435:1110 | D24: 89 | E24: 16 | F24: 2 | G24: =D24/1000*E24*F24 -> 2.848
A25: 1.9 | B25: Внутриплощадочные сети к жилому дому №9 (по генплану) I этап строительства, протяженность 180 м | C25: 52:18:0010435:2129 | D25: 159 | E25: 57.8 | F25: 2 | G25: =D25/1000*E25*F25 -> 18.3804
D26: 133 | E26: 24 | F26: 2 | G26: =D26/1000*E26*F26 -> 6.384
D27: 89 | E27: 98.2 | F27: 2 | G27: =D27/1000*E27*F27 -> 17.4796
A28: 1.10 | B28: Внутриплощадочные сети к жилому дому №9 (по генплану) II этап строительства, протяженность 40 м | C28: 52:18:0010435:2413 | D28: 89 | E28: 40 | F28: 2 | G28: =D28/1000*E28*F28 -> 7.12
A29: 1.11 | B29: Подземная тепловая сеть, транспортирующая горячую воду с температурой до 150 градусов Цельсия включительно по ул. Зайцева от камеры УТ1 до котельной, протяженность 932 м | C29: 52:18:0000000:14880 | D29: 273 | E29: 932 | F29: 2 | G29: =D29/1000*E29*F29 -> 508.872
A30: 1.12 | B30: Внутреплощадочные сети к зданию№14 (по генплану). 1 этап строительства, протяженность 110м | C30: 52:18:0010435:2417 | D30: 125 | E30: 110 | F30: 2 | G30: =D30/1000*E30*F30 -> 27.5
A31: 1.13 | B31: Внутреплощадочные сети к жд №8 (по генплану). 1 этап строительства, протяженность 99м | C31: 52:18:0010435:2698 | D31: 89 | E31: 99 | F31: 2 | G31: =D31/1000*E31*F31 -> 17.622
A32: 1.14 | B32: Внутреплощадочные сети к жд № 9(по генплану). lll этап строительства, протяженность 79м | C32: 52:18:0010435:2586 | D32: 89 | E32: 79 | F32: 2 | G32: =D32/1000*E32*F32 -> 14.062
A33: 1.15 | B33: Внутриплощадочные сети к жилому дому № 3 (по генплану). I этап строительства – внутриплощадочные сети к III этапу строительства жилого дома. Теплотрасса протяженностью 31 м | C33: 52:18:0010435:2874 | D33: 89 | E33: 31 | F33: 2 | G33: =D33/1000*E33*F33 -> 5.518
A34: 1.16 | B34: Внутриплощадочные сети к жилому дому № 3 (по генплану). II этап строительства – внутриплощадочные сети к IV этапу строительства жилого дома. Теплотрасса протяженностью 36 м | C34: 52:18:0010435:4992 | D34: 89 | E34: 36 | F34: 2 | G34: =D34/1000*E34*F34 -> 6.408
A35: 1.17 | B35: Внутриплощадочные сети к жилому дому № 4 (по генплану) – I этап строительства – внутриплощадочные сети к III этапу строительства жилого дома. Теплотрасса протяженностью 18 м | C35: 52:18:0010435:5331 | D35: 89 | E35: =13.5+4.5 -> 18 | F35: 2 | G35: =D35/1000*E35*F35 -> 3.204
A36: 1.18 | B36: Внутриплощадочные сети к жилому дому № 4 (по генплану) – II этап строительства – внутриплощадочные сети к IV этапу строительства жилого дома. Теплотрасса протяженностью 259 м | C36: 52:18:0010435:5330 | D36: 219 | E36: 50.6 | F36: 2 | G36: =D36/1000*E36*F36 -> 22.1628
D37: 133 | E37: 89 | F37: 2 | G37: =D37/1000*E37*F37 -> 23.674
D38: 89 | E38: 119.4 | F38: 2 | G38: =D38/1000*E38*F38 -> 21.2532
A39: 1.19 | B39: Внутриплощадочные сети к жилому дому № 5 (по генплану) – II этап строительства – внутриплощадочные сети к IV этапу строительства жилого дома. Теплотрасса протяженностью 21 м | C39: 52:18:0010435:5675 | D39: 89 | E39: 21 | F39: 2 | G39: =D39/1000*E39*F39 -> 3.738
A40: 1.20 | B40: Внутриплощадочные сети к жилому дому № 5 (по генплану) – I этап строительства – внутриплощадочные сети к lll этапу строительства жилого дома. Теплотрасса протяженностью 21 м | C40: 52:18:0010435:5510 | D40: 89 | E40: 21 | F40: 2 | G40: =D40/1000*E40*F40 -> 3.738
A41: 1.21 | B41: Внутриплощадочные сети к жилому дому № 7 (по генплану). Теплотрасса протяженностью 21 м | C41: 52:18:0010435:5926 | D41: 89 | E41: 21 | F41: 2 | G41: =D41/1000*E41*F41 -> 3.738
...
